BEGIN:VCALENDAR
VERSION:2.0
PRODID:-//eventon.com NONSGML v1.0//EN
BEGIN:VEVENT
UID:69e73ca40f094
DTSTAMP:20260421T210020
DTSTART:20190410T010000Z
DTEND:20190410T030000Z
LOCATION:Mt Cook School 160 Tory St\,  Te Aro\,  Wellington 6011
SUMMARY:Swimming
DESCRIPTION: Swimming
END:VEVENT
END:VCALENDAR