BEGIN:VCALENDAR
VERSION:2.0
PRODID:-//eventon.com NONSGML v1.0//EN
BEGIN:VEVENT
UID:69e73c2777bfe
DTSTAMP:20260421T205815
DTSTART:20250914T120000Z
DTEND:20250922T115900Z
LOCATION:
SUMMARY:Te Wiki O Te Reo Māori
DESCRIPTION: Te Wiki O Te Reo Māori
END:VEVENT
END:VCALENDAR