BEGIN:VCALENDAR
VERSION:2.0
PRODID:-//eventon.com NONSGML v1.0//EN
BEGIN:VEVENT
UID:69e73c258fb83
DTSTAMP:20260421T205813
DTSTART:20250305T021000Z
DTEND:20250305T073000Z
LOCATION:
SUMMARY:Whānau Hui
DESCRIPTION: Whānau Hui
END:VEVENT
END:VCALENDAR